BEGIN:VCALENDAR
VERSION:2.0
PRODID:-//I Knowledge Hub - ECPv6.5.1.6//NONSGML v1.0//EN
CALSCALE:GREGORIAN
METHOD:PUBLISH
X-WR-CALNAME:I Knowledge Hub
X-ORIGINAL-URL:https://nlpcoachingmalaysia.com
X-WR-CALDESC:Events for I Knowledge Hub
REFRESH-INTERVAL;VALUE=DURATION:PT1H
X-Robots-Tag:noindex
X-PUBLISHED-TTL:PT1H
BEGIN:VTIMEZONE
TZID:Asia/Kuala_Lumpur
BEGIN:STANDARD
TZOFFSETFROM:+0800
TZOFFSETTO:+0800
TZNAME:+08
DTSTART:20250101T000000
END:STANDARD
END:VTIMEZONE
BEGIN:VEVENT
DTSTART;TZID=Asia/Kuala_Lumpur:20250313T203000
DTEND;TZID=Asia/Kuala_Lumpur:20250313T223000
DTSTAMP:20260421T110855
CREATED:20241208T151244Z
LAST-MODIFIED:20241208T151446Z
UID:1357-1741897800-1741905000@nlpcoachingmalaysia.com
SUMMARY:Zoominar Kuasai Kewangan 2025 (13 Mac 2025)
DESCRIPTION:Tahun 2024 dikatakan akan lebih mencabar dengan ketidaktentuan ekonomi\, inflasi tinggi\, dan matawang Ringgit yang melemah menjadi cabaran utama kita semua. Tetapi ada perkara yang di luar kawalan kita\, dan ada yang mampu kita kawal – iaitu tahap kewangan peribadi kita. \nKini telah tiba masanya untuk kita melengkapkan diri dengan ilmu-ilmu berkaitan perancangan kewangan dengan lebih mendalam. Dan sudah tiba masanya juga untuk kita bertindak untuk memastikan kita berada di landasan yang betul bagi menempuh masa depan yang mendatang. \nDalam sesi percuma selama 2-jam ini\, kita akan mengupas topik-topik berikut: \n\n5 Masalah Kewangan Utama Rakyat Malaysia\nKepentingan Perancangan Kewangan\nPanduan Untuk Pelaburan\nKuasai Kewangan Anda\n\nMengenai Speaker \n \nEza Ezamie IFP ® merupakan seorang pakar pelaburan dan kewangan yang telah menulis tiga buah buku best-seller. Beliau merupakan seorang pelabur tegar dengan berbelas tahun pengalaman di dalam instrumen patuh-Syariah seperti saham\, hartanah\, robo-advisor\, amanah saham\, private mandate\, emas\, ECF\, P2P\, aset digital dan NFT. Beliau juga merupakan seorang Perancang Kewangan Islam. \nDAFTAR SEKARANG:\nPlease enable JavaScript in your browser to complete this form.Nama Penuh *FirstLastEmel *Nombor Telefon *Jantina *LelakiPerempuanUmur *Bawah 2121 - 3031 - 4041 - 5051 - 60> 60Negeri tempat tinggal *KL/SelangorPenangJohor BahruPerakSabah/SarawakKedahLain-lainTerms and Conditions (Terma dan Syarat): *I agree to the Terms and Conditions  and Privacy Policy of the event.By providing your information to register for the webinar and/or physical event:\n1) You acknowledge that you have read and understood the I Knowledge Hub's Privacy Policy ("Notice") and you agree to the processing of your personal data in accordance with this Notice.\n2) You consent to I Knowledge Hub (IKH) collecting\, obtaining\, storing and processing your personal data provided in this form for the purpose of receiving promotional and marketing updates\, emails and/or any other materials from I Knowledge Hub.\n3) You agree that I Knowledge Hub will not be liable for any delay or failure to fulfill their obligations under the terms and conditions stated herein due to circumstances beyond their control and without the fault or negligence of the Organiser.\nSubmit
URL:https://nlpcoachingmalaysia.com/event/zkk13032025/
LOCATION:Online
CATEGORIES:Investment
ATTACH;FMTTYPE=image/png:https://nlpcoachingmalaysia.com/wp-content/uploads/2024/01/financial-freedom.png
END:VEVENT
END:VCALENDAR