BEGIN:VCALENDAR
VERSION:2.0
PRODID:-//I Knowledge Hub - ECPv6.5.1.6//NONSGML v1.0//EN
CALSCALE:GREGORIAN
METHOD:PUBLISH
X-ORIGINAL-URL:https://nlpcoachingmalaysia.com
X-WR-CALDESC:Events for I Knowledge Hub
REFRESH-INTERVAL;VALUE=DURATION:PT1H
X-Robots-Tag:noindex
X-PUBLISHED-TTL:PT1H
BEGIN:VTIMEZONE
TZID:Asia/Kuala_Lumpur
BEGIN:STANDARD
TZOFFSETFROM:+0800
TZOFFSETTO:+0800
TZNAME:+08
DTSTART:20240101T000000
END:STANDARD
END:VTIMEZONE
BEGIN:VEVENT
DTSTART;TZID=Asia/Kuala_Lumpur:20241014T210000
DTEND;TZID=Asia/Kuala_Lumpur:20241014T220000
DTSTAMP:20260421T070435
CREATED:20240806T062544Z
LAST-MODIFIED:20241014T081007Z
UID:1107-1728939600-1728943200@nlpcoachingmalaysia.com
SUMMARY:Rahsia Buat Untung Dengan IPO Di Bursa Malaysia (14 Oktober 2024)
DESCRIPTION:Pendaftaran kini ditutup kerana sambutan yang hangat! Sila daftar untuk Rahsia Buat Untung Dengan IPO Di Bursa Malaysia seterusnya pada 21 November 2024.  \nUntuk pendaftaran\, sila KLIK SINI.  \nTerima kasih! \nTahukah anda bahawa IPO (Initial Public Offering) berkemungkinan tinggi akan naik pada hari pertama ianya disenaraikan di pasaran saham? \nTengok saja prestasi untuk beberapa tahun kebelakangan ini\, ada yang naik beratus peratus pada hari pertama\, tapi ada juga yang turun sebaik pukul 9 pagi hari penyenaraian. \nJom sertai zoominar Rahsia Buat Untung Dengan IPO Di Bursa Malaysia di mana kami akan kongsikan tentang:\n✅ Apa Itu IPO?\n✅ Kenapa syarikat pergi ke IPO?\n✅ Prospek IPO\n✅ Lubuk Buat Duit Dengan IPO\n✅ Track Record IPO \nDaftar sekarang dan kita jumpa nanti! \n  \nMengenai Speaker\n \nEza Ezamie IFP ® merupakan seorang pakar pelaburan dan kewangan yang telah menulis tiga buah buku best-seller. Beliau merupakan seorang pelabur tegar dengan berbelas tahun pengalaman di dalam instrumen patuh-Syariah seperti saham\, hartanah\, robo-advisor\, amanah saham\, private mandate\, emas\, ECF\, P2P\, aset digital dan NFT. Beliau juga merupakan seorang Perancang Kewangan Islam. \n  \n 
URL:https://nlpcoachingmalaysia.com/event/ipo141024/
LOCATION:Online
CATEGORIES:Investment
ATTACH;FMTTYPE=image/jpeg:https://nlpcoachingmalaysia.com/wp-content/uploads/2024/07/IPO-Banner-2-e1721207250804.jpg
END:VEVENT
BEGIN:VEVENT
DTSTART;TZID=Asia/Kuala_Lumpur:20241023T203000
DTEND;TZID=Asia/Kuala_Lumpur:20241023T223000
DTSTAMP:20260421T070435
CREATED:20240807T121633Z
LAST-MODIFIED:20241022T231956Z
UID:1152-1729715400-1729722600@nlpcoachingmalaysia.com
SUMMARY:Zoominar Kuasai Kewangan 2024 (23 Oktober 24)
DESCRIPTION:Pendaftaran kini ditutup kerana sambutan yang hangat! Sila daftar untuk Zoominar Kuasai Kewangan 2024 seterusnya pada 16 November 2024.  \nUntuk pendaftaran\, sila klik SINI.  \nTerima kasih! \n  \nTahun 2024 dikatakan akan lebih mencabar dengan ketidaktentuan ekonomi\, inflasi tinggi\, dan matawang Ringgit yang melemah menjadi cabaran utama kita semua. Tetapi ada perkara yang di luar kawalan kita\, dan ada yang mampu kita kawal – iaitu tahap kewangan peribadi kita. \nKini telah tiba masanya untuk kita melengkapkan diri dengan ilmu-ilmu berkaitan perancangan kewangan dengan lebih mendalam. Dan sudah tiba masanya juga untuk kita bertindak untuk memastikan kita berada di landasan yang betul bagi menempuh masa depan yang mendatang. \nDalam sesi percuma selama 2-jam ini\, kita akan mengupas topik-topik berikut: \n\n5 Masalah Kewangan Utama Rakyat Malaysia\nKepentingan Perancangan Kewangan\nPanduan Untuk Pelaburan\nKuasai Kewangan Anda\n\nMengenai Speaker \n \nEza Ezamie IFP ® merupakan seorang pakar pelaburan dan kewangan yang telah menulis tiga buah buku best-seller. Beliau merupakan seorang pelabur tegar dengan berbelas tahun pengalaman di dalam instrumen patuh-Syariah seperti saham\, hartanah\, robo-advisor\, amanah saham\, private mandate\, emas\, ECF\, P2P\, aset digital dan NFT. Beliau juga merupakan seorang Perancang Kewangan Islam. \n 
URL:https://nlpcoachingmalaysia.com/event/zkk231024/
LOCATION:Online
CATEGORIES:Investment
ATTACH;FMTTYPE=image/png:https://nlpcoachingmalaysia.com/wp-content/uploads/2024/01/financial-freedom.png
END:VEVENT
END:VCALENDAR