BEGIN:VCALENDAR
VERSION:2.0
PRODID:-//I Knowledge Hub - ECPv6.5.1.6//NONSGML v1.0//EN
CALSCALE:GREGORIAN
METHOD:PUBLISH
X-ORIGINAL-URL:https://nlpcoachingmalaysia.com
X-WR-CALDESC:Events for I Knowledge Hub
REFRESH-INTERVAL;VALUE=DURATION:PT1H
X-Robots-Tag:noindex
X-PUBLISHED-TTL:PT1H
BEGIN:VTIMEZONE
TZID:Asia/Kuala_Lumpur
BEGIN:STANDARD
TZOFFSETFROM:+0800
TZOFFSETTO:+0800
TZNAME:+08
DTSTART:20240101T000000
END:STANDARD
END:VTIMEZONE
BEGIN:VEVENT
DTSTART;TZID=Asia/Kuala_Lumpur:20240807T210000
DTEND;TZID=Asia/Kuala_Lumpur:20240807T220000
DTSTAMP:20260421T094115
CREATED:20240716T080110Z
LAST-MODIFIED:20240807T082854Z
UID:1049-1723064400-1723068000@nlpcoachingmalaysia.com
SUMMARY:Rahsia Buat Untung Dengan IPO Di Bursa Malaysia (07 Ogos 24)
DESCRIPTION:Pendaftaran kini ditutup kerana sambutan yang hangat! Sila daftar untuk Rahsia Buat Untung Dengan IPO Di Bursa Malaysia seterusnya pada 12 September 2024.  \nUntuk pendaftaran\, sila KLIK SINI.  \nTerima kasih! \n  \nTahukah anda bahawa IPO (Initial Public Offering) berkemungkinan tinggi akan naik pada hari pertama ianya disenaraikan di pasaran saham? \nTengok saja prestasi untuk beberapa tahun kebelakangan ini\, ada yang naik beratus peratus pada hari pertama\, tapi ada juga yang turun sebaik pukul 9 pagi hari penyenaraian. \nJom sertai zoominar Rahsia Buat Untung Dengan IPO Di Bursa Malaysia di mana kami akan kongsikan tentang:\n✅ Apa Itu IPO?\n✅ Kenapa syarikat pergi ke IPO?\n✅ Prospek IPO\n✅ Lubuk Buat Duit Dengan IPO\n✅ Track Record IPO \nDaftar sekarang dan kita jumpa nanti! \n  \nMengenai Speaker\n \nEza Ezamie IFP ® merupakan seorang pakar pelaburan dan kewangan yang telah menulis tiga buah buku best-seller. Beliau merupakan seorang pelabur tegar dengan berbelas tahun pengalaman di dalam instrumen patuh-Syariah seperti saham\, hartanah\, robo-advisor\, amanah saham\, private mandate\, emas\, ECF\, P2P\, aset digital dan NFT. Beliau juga merupakan seorang Perancang Kewangan Islam.
URL:https://nlpcoachingmalaysia.com/event/ipo070824/
LOCATION:Online
CATEGORIES:Investment
ATTACH;FMTTYPE=image/jpeg:https://nlpcoachingmalaysia.com/wp-content/uploads/2024/07/IPO-Banner-2-e1721207250804.jpg
END:VEVENT
END:VCALENDAR